BEGIN:VCALENDAR
VERSION:2.0
PRODID:-//Музейно-выставочный центр «Микула» - ECPv6.9.0//NONSGML v1.0//EN
CALSCALE:GREGORIAN
METHOD:PUBLISH
X-ORIGINAL-URL:https://museymikula.ru
X-WR-CALDESC:Мероприятия для Музейно-выставочный центр «Микула»
REFRESH-INTERVAL;VALUE=DURATION:PT1H
X-Robots-Tag:noindex
X-PUBLISHED-TTL:PT1H
BEGIN:VTIMEZONE
TZID:Europe/Moscow
BEGIN:STANDARD
TZOFFSETFROM:+0300
TZOFFSETTO:+0300
TZNAME:MSK
DTSTART:20250101T000000
END:STANDARD
END:VTIMEZONE
BEGIN:VEVENT
DTSTART;TZID=Europe/Moscow:20251212T170000
DTEND;TZID=Europe/Moscow:20260215T160000
DTSTAMP:20260421T192536
CREATED:20251209T125052Z
LAST-MODIFIED:20251209T125756Z
UID:3593-1765558800-1771171200@museymikula.ru
SUMMARY:Выставка художницы\, иллюстратора Анастасии Жуниной «Сказочные горизонты: искусство иллюстрации»
DESCRIPTION:С 12 декабря 2025 года по 15 февраля в музее проходит выставка художницы\, иллюстратора«Сказочные горизонты: искусство иллюстрации» \nВ экспозиции представлены авторские картины на сюжеты сказок народов России\, которые Анастасия создавала специально для книжных издательств.\nКроме того\, в залах музея представлена авторская керамика Анастасии Жуниной\, с любимыми и знакомыми с детства сказочными персонажами!
URL:https://museymikula.ru/event/vystavka-hudozhniczy-illyustratora-anastasii-zhuninoj-skazochnye-gorizonty-iskusstvo-illyustraczii/
ATTACH;FMTTYPE=image/jpeg:https://museymikula.ru/wp-content/uploads/2025/12/afisha-2_final-scaled.jpg
END:VEVENT
END:VCALENDAR